BEGIN:VCALENDAR
VERSION:2.0
PRODID:-//Lake Martin - ECPv6.15.20//NONSGML v1.0//EN
CALSCALE:GREGORIAN
METHOD:PUBLISH
X-WR-CALNAME:Lake Martin
X-ORIGINAL-URL:https://explorelakemartin.com
X-WR-CALDESC:Events for Lake Martin
REFRESH-INTERVAL;VALUE=DURATION:PT1H
X-Robots-Tag:noindex
X-PUBLISHED-TTL:PT1H
BEGIN:VTIMEZONE
TZID:America/Chicago
BEGIN:DAYLIGHT
TZOFFSETFROM:-0600
TZOFFSETTO:-0500
TZNAME:CDT
DTSTART:20240310T080000
END:DAYLIGHT
BEGIN:STANDARD
TZOFFSETFROM:-0500
TZOFFSETTO:-0600
TZNAME:CST
DTSTART:20241103T070000
END:STANDARD
BEGIN:DAYLIGHT
TZOFFSETFROM:-0600
TZOFFSETTO:-0500
TZNAME:CDT
DTSTART:20250309T080000
END:DAYLIGHT
BEGIN:STANDARD
TZOFFSETFROM:-0500
TZOFFSETTO:-0600
TZNAME:CST
DTSTART:20251102T070000
END:STANDARD
BEGIN:DAYLIGHT
TZOFFSETFROM:-0600
TZOFFSETTO:-0500
TZNAME:CDT
DTSTART:20260308T080000
END:DAYLIGHT
BEGIN:STANDARD
TZOFFSETFROM:-0500
TZOFFSETTO:-0600
TZNAME:CST
DTSTART:20261101T070000
END:STANDARD
END:VTIMEZONE
BEGIN:VEVENT
DTSTART;TZID=America/Chicago:20251115T080000
DTEND;TZID=America/Chicago:20251115T120000
DTSTAMP:20260421T090748
CREATED:20251007T193556Z
LAST-MODIFIED:20251007T193556Z
UID:10008120-1763193600-1763208000@explorelakemartin.com
SUMMARY:Wild Wonders: Cast and Catch at Wind Creek State Park
DESCRIPTION:Join Wind Creek State Park’s naturalist for an introduction of fishing. \nA special thanks to the Bronco Wild Fund Grant Program for their continued support in making public lands more accessible for all through trail management\, campground restorations\, and outdoor recreation initiatives. \nFor registration please visit Wind Creek State Park.
URL:https://explorelakemartin.com/event/wild-wonders-cast-and-catch-at-wind-creek-state-park/2025-11-15/
LOCATION:Wind Creek State Park
CATEGORIES:Arts and Culture
ATTACH;FMTTYPE=image/jpeg:https://explorelakemartin.com/wp-content/uploads/2025/01/Fishing.jpg
END:VEVENT
END:VCALENDAR