BEGIN:VCALENDAR
VERSION:2.0
PRODID:-//Lake Martin - ECPv6.15.20//NONSGML v1.0//EN
CALSCALE:GREGORIAN
METHOD:PUBLISH
X-WR-CALNAME:Lake Martin
X-ORIGINAL-URL:https://explorelakemartin.com
X-WR-CALDESC:Events for Lake Martin
REFRESH-INTERVAL;VALUE=DURATION:PT1H
X-Robots-Tag:noindex
X-PUBLISHED-TTL:PT1H
BEGIN:VTIMEZONE
TZID:America/Chicago
BEGIN:DAYLIGHT
TZOFFSETFROM:-0600
TZOFFSETTO:-0500
TZNAME:CDT
DTSTART:20240310T080000
END:DAYLIGHT
BEGIN:STANDARD
TZOFFSETFROM:-0500
TZOFFSETTO:-0600
TZNAME:CST
DTSTART:20241103T070000
END:STANDARD
BEGIN:DAYLIGHT
TZOFFSETFROM:-0600
TZOFFSETTO:-0500
TZNAME:CDT
DTSTART:20250309T080000
END:DAYLIGHT
BEGIN:STANDARD
TZOFFSETFROM:-0500
TZOFFSETTO:-0600
TZNAME:CST
DTSTART:20251102T070000
END:STANDARD
BEGIN:DAYLIGHT
TZOFFSETFROM:-0600
TZOFFSETTO:-0500
TZNAME:CDT
DTSTART:20260308T080000
END:DAYLIGHT
BEGIN:STANDARD
TZOFFSETFROM:-0500
TZOFFSETTO:-0600
TZNAME:CST
DTSTART:20261101T070000
END:STANDARD
END:VTIMEZONE
BEGIN:VEVENT
DTSTART;VALUE=DATE:20250502
DTEND;VALUE=DATE:20250503
DTSTAMP:20260421T043418
CREATED:20250424T190912Z
LAST-MODIFIED:20250509T180004Z
UID:10007459-1746144000-1746230399@explorelakemartin.com
SUMMARY:Stillwaters Golf - Dog Fight Club
DESCRIPTION:Join golfers of all ages and abilities at Stillwaters Golf Club at 10am every Monday\, Wednesday\, Friday and Saturday to play in the dog fight club. This is an open golf event for more information please visit Stillwaters Golf Club or contact: (256) 825-1353.
URL:https://explorelakemartin.com/event/stillwaters-golf-dog-fight-club/2025-05-02/
LOCATION:Stillwater’s Golf Club\, 797 Moonbrook Dr\, Dadeville\, AL\, 36853\, United States
CATEGORIES:Sporting Events
ATTACH;FMTTYPE=image/jpeg:https://explorelakemartin.com/wp-content/uploads/2025/04/SW-4.jpg
ORGANIZER;CN="Stillwater's Golf Club":MAILTO:stillwatersgolf@charter.net
END:VEVENT
END:VCALENDAR