BEGIN:VCALENDAR
VERSION:2.0
PRODID:-//Lake Martin - ECPv6.15.20//NONSGML v1.0//EN
CALSCALE:GREGORIAN
METHOD:PUBLISH
X-WR-CALNAME:Lake Martin
X-ORIGINAL-URL:https://explorelakemartin.com
X-WR-CALDESC:Events for Lake Martin
REFRESH-INTERVAL;VALUE=DURATION:PT1H
X-Robots-Tag:noindex
X-PUBLISHED-TTL:PT1H
BEGIN:VTIMEZONE
TZID:America/Chicago
BEGIN:DAYLIGHT
TZOFFSETFROM:-0600
TZOFFSETTO:-0500
TZNAME:CDT
DTSTART:20240310T080000
END:DAYLIGHT
BEGIN:STANDARD
TZOFFSETFROM:-0500
TZOFFSETTO:-0600
TZNAME:CST
DTSTART:20241103T070000
END:STANDARD
BEGIN:DAYLIGHT
TZOFFSETFROM:-0600
TZOFFSETTO:-0500
TZNAME:CDT
DTSTART:20250309T080000
END:DAYLIGHT
BEGIN:STANDARD
TZOFFSETFROM:-0500
TZOFFSETTO:-0600
TZNAME:CST
DTSTART:20251102T070000
END:STANDARD
BEGIN:DAYLIGHT
TZOFFSETFROM:-0600
TZOFFSETTO:-0500
TZNAME:CDT
DTSTART:20260308T080000
END:DAYLIGHT
BEGIN:STANDARD
TZOFFSETFROM:-0500
TZOFFSETTO:-0600
TZNAME:CST
DTSTART:20261101T070000
END:STANDARD
END:VTIMEZONE
BEGIN:VEVENT
DTSTART;TZID=America/Chicago:20250322T080000
DTEND;TZID=America/Chicago:20250322T100000
DTSTAMP:20260421T190659
CREATED:20250310T205044Z
LAST-MODIFIED:20250310T205654Z
UID:37517-1742630400-1742637600@explorelakemartin.com
SUMMARY:Ranger Battle Run 5k
DESCRIPTION:Get ready to take on the Ranger Battle Run 5K\, hosted at Southern Preparatory Academy in Camp Hill\, Alabama! Positioned between Auburn and Lake Martin\, the course offers a dynamic experience with grass fields\, wooded trails\, pond views\, and challenging elevation changes. Whether you’re a seasoned runner or just looking for a scenic adventure\, this race delivers a thrilling multi-terrain challenge right in the heart of Central Alabama.\nThe Mini Battle Run (a one-mile fun run) will also be available! This exciting course features a mix of smooth pavement\, open grassy fields\, and gentle inclines and declines to keep things fun and engaging.\nTheme: Get into the spirit by wearing your camo colors! Face paint will be available for all participants to complete your battle-ready look.\nRace Day Schedule: Date: Saturday\, March 22\, 2025 Ranger Battle Run 5K: 8:00 AM CST Mini Battle Run (1 Mile): 8:30 AM CST\nJoin for one or both races – there’s something for everyone!
URL:https://explorelakemartin.com/event/ranger-battle-run-5k/
LOCATION:Southern Prep Academy\, 174 Ward Circle\, Camp Hill\, AL\, 36850\, United States
CATEGORIES:Arts and Culture,Sporting Events
ATTACH;FMTTYPE=image/jpeg:https://explorelakemartin.com/wp-content/uploads/2025/03/5k.jpg
END:VEVENT
END:VCALENDAR