BEGIN:VCALENDAR
VERSION:2.0
PRODID:-//Lake Martin - ECPv6.15.20//NONSGML v1.0//EN
CALSCALE:GREGORIAN
METHOD:PUBLISH
X-WR-CALNAME:Lake Martin
X-ORIGINAL-URL:https://explorelakemartin.com
X-WR-CALDESC:Events for Lake Martin
REFRESH-INTERVAL;VALUE=DURATION:PT1H
X-Robots-Tag:noindex
X-PUBLISHED-TTL:PT1H
BEGIN:VTIMEZONE
TZID:America/Chicago
BEGIN:DAYLIGHT
TZOFFSETFROM:-0600
TZOFFSETTO:-0500
TZNAME:CDT
DTSTART:20240310T080000
END:DAYLIGHT
BEGIN:STANDARD
TZOFFSETFROM:-0500
TZOFFSETTO:-0600
TZNAME:CST
DTSTART:20241103T070000
END:STANDARD
BEGIN:DAYLIGHT
TZOFFSETFROM:-0600
TZOFFSETTO:-0500
TZNAME:CDT
DTSTART:20250309T080000
END:DAYLIGHT
BEGIN:STANDARD
TZOFFSETFROM:-0500
TZOFFSETTO:-0600
TZNAME:CST
DTSTART:20251102T070000
END:STANDARD
BEGIN:DAYLIGHT
TZOFFSETFROM:-0600
TZOFFSETTO:-0500
TZNAME:CDT
DTSTART:20260308T080000
END:DAYLIGHT
BEGIN:STANDARD
TZOFFSETFROM:-0500
TZOFFSETTO:-0600
TZNAME:CST
DTSTART:20261101T070000
END:STANDARD
END:VTIMEZONE
BEGIN:VEVENT
DTSTART;TZID=America/Chicago:20251220T120000
DTEND;TZID=America/Chicago:20251220T140000
DTSTAMP:20260421T172730
CREATED:20251007T201256Z
LAST-MODIFIED:20251007T201256Z
UID:49492-1766232000-1766239200@explorelakemartin.com
SUMMARY:Painting in the Park: Christmas Creations at Wind Creek State Park
DESCRIPTION:If you are looking for a creative way to show your Christmas spirit\, then come to the Wind Creek State Park clubhouse to create your very own Christmas-themed painting that you can take home! \nWind Creek State Park is grateful to the Bronco Wild Fund Grant Program for their continued support in promoting access\, stewardship\, and preservation of public lands. Through their generous funding\, initiatives such as trail management\, campground restorations\, adaptive equipment resources\, and new introductory access programs are helping more people connect with the outdoors. In 2025\, BWF is furthering this mission by supporting programs that break down barriers to outdoor recreation\, ensuring that everyone has the opportunity to enjoy and care for Alabama State Parks.
URL:https://explorelakemartin.com/event/painting-in-the-park-christmas-creations-at-wind-creek-state-park/
LOCATION:Wind Creek State Park
CATEGORIES:Arts and Culture
ATTACH;FMTTYPE=image/png:https://explorelakemartin.com/wp-content/uploads/2025/10/WCChristmasPaint.png
END:VEVENT
END:VCALENDAR