BEGIN:VCALENDAR
VERSION:2.0
PRODID:-//Lake Martin - ECPv6.15.20//NONSGML v1.0//EN
CALSCALE:GREGORIAN
METHOD:PUBLISH
X-WR-CALNAME:Lake Martin
X-ORIGINAL-URL:https://explorelakemartin.com
X-WR-CALDESC:Events for Lake Martin
REFRESH-INTERVAL;VALUE=DURATION:PT1H
X-Robots-Tag:noindex
X-PUBLISHED-TTL:PT1H
BEGIN:VTIMEZONE
TZID:America/Chicago
BEGIN:DAYLIGHT
TZOFFSETFROM:-0600
TZOFFSETTO:-0500
TZNAME:CDT
DTSTART:20240310T080000
END:DAYLIGHT
BEGIN:STANDARD
TZOFFSETFROM:-0500
TZOFFSETTO:-0600
TZNAME:CST
DTSTART:20241103T070000
END:STANDARD
BEGIN:DAYLIGHT
TZOFFSETFROM:-0600
TZOFFSETTO:-0500
TZNAME:CDT
DTSTART:20250309T080000
END:DAYLIGHT
BEGIN:STANDARD
TZOFFSETFROM:-0500
TZOFFSETTO:-0600
TZNAME:CST
DTSTART:20251102T070000
END:STANDARD
BEGIN:DAYLIGHT
TZOFFSETFROM:-0600
TZOFFSETTO:-0500
TZNAME:CDT
DTSTART:20260308T080000
END:DAYLIGHT
BEGIN:STANDARD
TZOFFSETFROM:-0500
TZOFFSETTO:-0600
TZNAME:CST
DTSTART:20261101T070000
END:STANDARD
END:VTIMEZONE
BEGIN:VEVENT
DTSTART;TZID=America/Chicago:20251205T170000
DTEND;TZID=America/Chicago:20251205T183000
DTSTAMP:20260421T045409
CREATED:20251007T192907Z
LAST-MODIFIED:20251007T192907Z
UID:10008114-1764954000-1764959400@explorelakemartin.com
SUMMARY:Nature Trivia Night at Wind Creek State Park
DESCRIPTION:Bring your sense of adventure to Wind Creek Scavenger Hunt at Wind Creek State Park! This fun\, family-friendly activity takes you on a journey through the park as you search for hidden clues and discover interesting sights along the way. Perfect for all ages\, it’s a great way to explore the outdoors\, learn more about the park’s natural wonders\, and enjoy a day of teamwork and discovery.
URL:https://explorelakemartin.com/event/nature-trivia-night-at-wind-creek-state-park-2/2025-12-05/
LOCATION:Wind Creek State Park
CATEGORIES:Arts and Culture
ATTACH;FMTTYPE=image/png:https://explorelakemartin.com/wp-content/uploads/2025/10/WCNatureTrivia2.png
END:VEVENT
END:VCALENDAR