BEGIN:VCALENDAR
VERSION:2.0
PRODID:-//Lake Martin - ECPv6.15.20//NONSGML v1.0//EN
CALSCALE:GREGORIAN
METHOD:PUBLISH
X-WR-CALNAME:Lake Martin
X-ORIGINAL-URL:https://explorelakemartin.com
X-WR-CALDESC:Events for Lake Martin
REFRESH-INTERVAL;VALUE=DURATION:PT1H
X-Robots-Tag:noindex
X-PUBLISHED-TTL:PT1H
BEGIN:VTIMEZONE
TZID:America/Chicago
BEGIN:DAYLIGHT
TZOFFSETFROM:-0600
TZOFFSETTO:-0500
TZNAME:CDT
DTSTART:20240310T080000
END:DAYLIGHT
BEGIN:STANDARD
TZOFFSETFROM:-0500
TZOFFSETTO:-0600
TZNAME:CST
DTSTART:20241103T070000
END:STANDARD
BEGIN:DAYLIGHT
TZOFFSETFROM:-0600
TZOFFSETTO:-0500
TZNAME:CDT
DTSTART:20250309T080000
END:DAYLIGHT
BEGIN:STANDARD
TZOFFSETFROM:-0500
TZOFFSETTO:-0600
TZNAME:CST
DTSTART:20251102T070000
END:STANDARD
BEGIN:DAYLIGHT
TZOFFSETFROM:-0600
TZOFFSETTO:-0500
TZNAME:CDT
DTSTART:20260308T080000
END:DAYLIGHT
BEGIN:STANDARD
TZOFFSETFROM:-0500
TZOFFSETTO:-0600
TZNAME:CST
DTSTART:20261101T070000
END:STANDARD
END:VTIMEZONE
BEGIN:VEVENT
DTSTART;TZID=America/Chicago:20250911T180000
DTEND;TZID=America/Chicago:20250911T203000
DTSTAMP:20260421T142222
CREATED:20250804T200619Z
LAST-MODIFIED:20250804T200619Z
UID:46024-1757613600-1757622600@explorelakemartin.com
SUMMARY:Lake Martin Area United Way 80's Murder Mystery Dinner
DESCRIPTION:Get ready to tease that hair\, rock some neon\, and solve crime in style! Can you figure out whodunit before dessert?\n\nIt’s the 80’s again\, and all of the big names are here for a big concert. Tensions run rampant as backstage secrets spill out into the spotlight with like\, totally tragic results! This isn’t an episode of Miami Vice! This is like…murder. It’s up to you to bust it like a ghost\, for sure! Peg your jeans\, slouch your socks\, flash some neon\, put on way too much eyeliner\, and get that hair up! You are going to solve this crime in style. No time to be Too Shy! You are a Smooth Operator\, and you know to listen to those Careless Whispers. It’s time to put on your Sunglasses at Night and Relax. Time After Time…You will solve the case.\n\nJoin us for a totally rockin’ radical 80’s-themed Murder Mystery Dinner and Fundraiser for United Way! Tickets and Reserved Tables & Sponsorships Available. Tickets are LIMITED and will NOT be sold at the door. Get tickets HERE. 
URL:https://explorelakemartin.com/event/lake-martin-area-united-way-80s-murder-mystery-dinner/
LOCATION:The Mill Two Eighty\, 1844-1848 Airport Dr\, Alexander City\, AL\, 35010\, United States
CATEGORIES:Arts and Culture
ATTACH;FMTTYPE=image/png:https://explorelakemartin.com/wp-content/uploads/2025/08/80sMurderMystery.png
ORGANIZER;CN="Lake Martin Area United Way":MAILTO:uw211@unitedwaylakemartin.org
END:VEVENT
END:VCALENDAR