BEGIN:VCALENDAR
VERSION:2.0
PRODID:-//Lake Martin - ECPv6.15.20//NONSGML v1.0//EN
CALSCALE:GREGORIAN
METHOD:PUBLISH
X-WR-CALNAME:Lake Martin
X-ORIGINAL-URL:https://explorelakemartin.com
X-WR-CALDESC:Events for Lake Martin
REFRESH-INTERVAL;VALUE=DURATION:PT1H
X-Robots-Tag:noindex
X-PUBLISHED-TTL:PT1H
BEGIN:VTIMEZONE
TZID:America/Chicago
BEGIN:DAYLIGHT
TZOFFSETFROM:-0600
TZOFFSETTO:-0500
TZNAME:CDT
DTSTART:20240310T080000
END:DAYLIGHT
BEGIN:STANDARD
TZOFFSETFROM:-0500
TZOFFSETTO:-0600
TZNAME:CST
DTSTART:20241103T070000
END:STANDARD
BEGIN:DAYLIGHT
TZOFFSETFROM:-0600
TZOFFSETTO:-0500
TZNAME:CDT
DTSTART:20250309T080000
END:DAYLIGHT
BEGIN:STANDARD
TZOFFSETFROM:-0500
TZOFFSETTO:-0600
TZNAME:CST
DTSTART:20251102T070000
END:STANDARD
BEGIN:DAYLIGHT
TZOFFSETFROM:-0600
TZOFFSETTO:-0500
TZNAME:CDT
DTSTART:20260308T080000
END:DAYLIGHT
BEGIN:STANDARD
TZOFFSETFROM:-0500
TZOFFSETTO:-0600
TZNAME:CST
DTSTART:20261101T070000
END:STANDARD
END:VTIMEZONE
BEGIN:VEVENT
DTSTART;TZID=America/Chicago:20250320T140000
DTEND;TZID=America/Chicago:20250320T160000
DTSTAMP:20260421T154035
CREATED:20250318T202411Z
LAST-MODIFIED:20250318T202411Z
UID:37736-1742479200-1742486400@explorelakemartin.com
SUMMARY:Kids Drawing Class
DESCRIPTION:Join for a fun and creative kids’ drawing class on March 20th at 2 PM at the Adelia M. Russell Library! Limited seats available\, so be sure to sign up by calling\, emailing\, or walking in. Don’t miss out on the chance to let your imagination run wild!
URL:https://explorelakemartin.com/event/kids-drawing-class/
LOCATION:Adelia M. Russell Library\, 318 Church Street\, Alexander City\, AL\, 35010\, United States
CATEGORIES:Arts and Culture
ATTACH;FMTTYPE=image/png:https://explorelakemartin.com/wp-content/uploads/2025/03/Drawing-.png
END:VEVENT
END:VCALENDAR