BEGIN:VCALENDAR
VERSION:2.0
PRODID:-//Lake Martin - ECPv6.15.20//NONSGML v1.0//EN
CALSCALE:GREGORIAN
METHOD:PUBLISH
X-WR-CALNAME:Lake Martin
X-ORIGINAL-URL:https://explorelakemartin.com
X-WR-CALDESC:Events for Lake Martin
REFRESH-INTERVAL;VALUE=DURATION:PT1H
X-Robots-Tag:noindex
X-PUBLISHED-TTL:PT1H
BEGIN:VTIMEZONE
TZID:America/Chicago
BEGIN:DAYLIGHT
TZOFFSETFROM:-0600
TZOFFSETTO:-0500
TZNAME:CDT
DTSTART:20240310T080000
END:DAYLIGHT
BEGIN:STANDARD
TZOFFSETFROM:-0500
TZOFFSETTO:-0600
TZNAME:CST
DTSTART:20241103T070000
END:STANDARD
BEGIN:DAYLIGHT
TZOFFSETFROM:-0600
TZOFFSETTO:-0500
TZNAME:CDT
DTSTART:20250309T080000
END:DAYLIGHT
BEGIN:STANDARD
TZOFFSETFROM:-0500
TZOFFSETTO:-0600
TZNAME:CST
DTSTART:20251102T070000
END:STANDARD
BEGIN:DAYLIGHT
TZOFFSETFROM:-0600
TZOFFSETTO:-0500
TZNAME:CDT
DTSTART:20260308T080000
END:DAYLIGHT
BEGIN:STANDARD
TZOFFSETFROM:-0500
TZOFFSETTO:-0600
TZNAME:CST
DTSTART:20261101T070000
END:STANDARD
END:VTIMEZONE
BEGIN:VEVENT
DTSTART;TZID=America/Chicago:20250318T180000
DTEND;TZID=America/Chicago:20250318T200000
DTSTAMP:20260421T140200
CREATED:20250204T200546Z
LAST-MODIFIED:20250204T200546Z
UID:10007200-1742320800-1742328000@explorelakemartin.com
SUMMARY:Hand Pottery Building Class - One Oak Pottery
DESCRIPTION:Starting March 4th\, join One Oak Pottery every Tuesday for four weeks straight to learn the step-by-step process and all the essential pottery techniques. Whether you’re a beginner or looking to refine your skills\, this hands-on class is the perfect opportunity to explore the art of pottery in a supportive\, creative environment.\n\n\nThe two available times are 10am-12pm or 6pm-8pm.\n\n\nDates:\n3/4\n3/11\n3/18\n3/25\n\nFor more information please visit One Oak Pottery.
URL:https://explorelakemartin.com/event/hand-pottery-building-class-one-oak-pottery/2025-03-18/
LOCATION:One Oak Pottery\, 113 E. Lafayette Street\, Dadeville\, AL\, 36853\, United States
ATTACH;FMTTYPE=image/jpeg:https://explorelakemartin.com/wp-content/uploads/2025/02/Pottery.jpg
END:VEVENT
END:VCALENDAR