BEGIN:VCALENDAR
VERSION:2.0
PRODID:-//Lake Martin - ECPv6.15.20//NONSGML v1.0//EN
CALSCALE:GREGORIAN
METHOD:PUBLISH
X-WR-CALNAME:Lake Martin
X-ORIGINAL-URL:https://explorelakemartin.com
X-WR-CALDESC:Events for Lake Martin
REFRESH-INTERVAL;VALUE=DURATION:PT1H
X-Robots-Tag:noindex
X-PUBLISHED-TTL:PT1H
BEGIN:VTIMEZONE
TZID:America/Chicago
BEGIN:DAYLIGHT
TZOFFSETFROM:-0600
TZOFFSETTO:-0500
TZNAME:CDT
DTSTART:20240310T080000
END:DAYLIGHT
BEGIN:STANDARD
TZOFFSETFROM:-0500
TZOFFSETTO:-0600
TZNAME:CST
DTSTART:20241103T070000
END:STANDARD
BEGIN:DAYLIGHT
TZOFFSETFROM:-0600
TZOFFSETTO:-0500
TZNAME:CDT
DTSTART:20250309T080000
END:DAYLIGHT
BEGIN:STANDARD
TZOFFSETFROM:-0500
TZOFFSETTO:-0600
TZNAME:CST
DTSTART:20251102T070000
END:STANDARD
BEGIN:DAYLIGHT
TZOFFSETFROM:-0600
TZOFFSETTO:-0500
TZNAME:CDT
DTSTART:20260308T080000
END:DAYLIGHT
BEGIN:STANDARD
TZOFFSETFROM:-0500
TZOFFSETTO:-0600
TZNAME:CST
DTSTART:20261101T070000
END:STANDARD
END:VTIMEZONE
BEGIN:VEVENT
DTSTART;TZID=America/Chicago:20250606T183000
DTEND;TZID=America/Chicago:20250606T203000
DTSTAMP:20260421T031846
CREATED:20250512T165248Z
LAST-MODIFIED:20250512T165248Z
UID:40413-1749234600-1749241800@explorelakemartin.com
SUMMARY:Friday on the Green - The Bank Walkers
DESCRIPTION:June is here and the fun continues on Lake Martin! And\, Friday On The Green is going strong! Grab your comfy gear and the leash for the pup\, and meet on the Town Green at Russell Crossroads! It’s been a while since they have joined us for a Friday On The Green so it’s fun to welcome back The Bank Walkers! The Bank Walkers will join us bringing their favorites and ours too! So\, drop by Catherine’s and grab some stuff for a picnic\, grab a delicious meal from Fanny’s or SpringHouse and join us for some good Bank Walking music! We hope to see you Friday\, On The Green!
URL:https://explorelakemartin.com/event/friday-on-the-green-the-bank-walkers/
LOCATION:Russell Crossroads\, 19 Russell Farms Rd\, Alexander City\, AL\, 35010\, United States
CATEGORIES:Arts and Culture
ATTACH;FMTTYPE=image/png:https://explorelakemartin.com/wp-content/uploads/2025/05/TheBankWalkers.png
ORGANIZER;CN="Russell Lands on Lake Martin":MAILTO:info@russelllands.com
END:VEVENT
END:VCALENDAR