BEGIN:VCALENDAR
VERSION:2.0
PRODID:-//Lake Martin - ECPv6.15.20//NONSGML v1.0//EN
CALSCALE:GREGORIAN
METHOD:PUBLISH
X-WR-CALNAME:Lake Martin
X-ORIGINAL-URL:https://explorelakemartin.com
X-WR-CALDESC:Events for Lake Martin
REFRESH-INTERVAL;VALUE=DURATION:PT1H
X-Robots-Tag:noindex
X-PUBLISHED-TTL:PT1H
BEGIN:VTIMEZONE
TZID:America/Chicago
BEGIN:DAYLIGHT
TZOFFSETFROM:-0600
TZOFFSETTO:-0500
TZNAME:CDT
DTSTART:20250309T080000
END:DAYLIGHT
BEGIN:STANDARD
TZOFFSETFROM:-0500
TZOFFSETTO:-0600
TZNAME:CST
DTSTART:20251102T070000
END:STANDARD
BEGIN:DAYLIGHT
TZOFFSETFROM:-0600
TZOFFSETTO:-0500
TZNAME:CDT
DTSTART:20260308T080000
END:DAYLIGHT
BEGIN:STANDARD
TZOFFSETFROM:-0500
TZOFFSETTO:-0600
TZNAME:CST
DTSTART:20261101T070000
END:STANDARD
BEGIN:DAYLIGHT
TZOFFSETFROM:-0600
TZOFFSETTO:-0500
TZNAME:CDT
DTSTART:20270314T080000
END:DAYLIGHT
BEGIN:STANDARD
TZOFFSETFROM:-0500
TZOFFSETTO:-0600
TZNAME:CST
DTSTART:20271107T070000
END:STANDARD
END:VTIMEZONE
BEGIN:VEVENT
DTSTART;TZID=America/Chicago:20260619T183000
DTEND;TZID=America/Chicago:20260619T203000
DTSTAMP:20260421T163222
CREATED:20260414T214531Z
LAST-MODIFIED:20260414T214531Z
UID:54690-1781893800-1781901000@explorelakemartin.com
SUMMARY:Friday on the Green - Rick Carter
DESCRIPTION:Rick Carter returns to the Green Stage this Friday. Last year\, Rick was joined by a strong group of musicians for our Labor Day Weekend event! Rick is a Southern musician\, songwriter\, and bandleader from Birmingham with over 50 years in the music industry. Starting his career at a young age\, he became a key figure in the regional scene as a founding member of Telluride and co-founder of Rollin’ in the Hay\, blending Southern rock\, blues\, country\, and Americana. \nThroughout his career\, he has collaborated with artists like Bob Dylan and Willie Nelson\, earned recognition from the Alabama Music Hall of Fame\, and received a Lifetime Achievement Award from the Birmingham Area Musicians’ Association. Known as “The Hardest Working Man in Music\,” Carter remains active today performing\, recording\, writing\, and supporting Alabama’s music community. \nGrab your comfy stuff and join us for a night of stories and song!! See you Friday\, On The Green!!
URL:https://explorelakemartin.com/event/friday-on-the-green-rick-carter/
LOCATION:Russell Crossroads\, 19 Russell Farms Rd\, Alexander City\, AL\, 35010\, United States
CATEGORIES:Arts and Culture
ATTACH;FMTTYPE=image/png:https://explorelakemartin.com/wp-content/uploads/2026/04/FOTGRickCarter.png
ORGANIZER;CN="Russell Lands on Lake Martin":MAILTO:info@russelllands.com
END:VEVENT
END:VCALENDAR