BEGIN:VCALENDAR
VERSION:2.0
PRODID:-//Lake Martin - ECPv6.15.20//NONSGML v1.0//EN
CALSCALE:GREGORIAN
METHOD:PUBLISH
X-WR-CALNAME:Lake Martin
X-ORIGINAL-URL:https://explorelakemartin.com
X-WR-CALDESC:Events for Lake Martin
REFRESH-INTERVAL;VALUE=DURATION:PT1H
X-Robots-Tag:noindex
X-PUBLISHED-TTL:PT1H
BEGIN:VTIMEZONE
TZID:America/Chicago
BEGIN:DAYLIGHT
TZOFFSETFROM:-0600
TZOFFSETTO:-0500
TZNAME:CDT
DTSTART:20250309T080000
END:DAYLIGHT
BEGIN:STANDARD
TZOFFSETFROM:-0500
TZOFFSETTO:-0600
TZNAME:CST
DTSTART:20251102T070000
END:STANDARD
BEGIN:DAYLIGHT
TZOFFSETFROM:-0600
TZOFFSETTO:-0500
TZNAME:CDT
DTSTART:20260308T080000
END:DAYLIGHT
BEGIN:STANDARD
TZOFFSETFROM:-0500
TZOFFSETTO:-0600
TZNAME:CST
DTSTART:20261101T070000
END:STANDARD
BEGIN:DAYLIGHT
TZOFFSETFROM:-0600
TZOFFSETTO:-0500
TZNAME:CDT
DTSTART:20270314T080000
END:DAYLIGHT
BEGIN:STANDARD
TZOFFSETFROM:-0500
TZOFFSETTO:-0600
TZNAME:CST
DTSTART:20271107T070000
END:STANDARD
END:VTIMEZONE
BEGIN:VEVENT
DTSTART;TZID=America/Chicago:20260925T183000
DTEND;TZID=America/Chicago:20260925T203000
DTSTAMP:20260421T153634
CREATED:20260421T165152Z
LAST-MODIFIED:20260421T165152Z
UID:54792-1790361000-1790368200@explorelakemartin.com
SUMMARY:Friday on the Green - Brett McDaniel
DESCRIPTION:As the Friday On The Green season comes to a close we welcome back to the Green Stage\, Brett McDaniel! Brett is a country\, folk\, and Americana singer-songwriter from the Auburn/Valley area\, known for his honest storytelling and roots-driven sound. He got his start working behind the scenes in music as a sound engineer at his father’s nightclub before eventually stepping into songwriting and live performance himself\, honing his craft during Sunday night sets that helped shape his signature style. \nHis music blends Southern grit with heartfelt lyricism\, drawing from small-town life and classic Americana influences. Over the years\, he’s built a strong regional following across Alabama and the Southeast\, performing both solo and as part of the duo “Daniel-McDaniel.” He’s shared stages with respected artists like Brent Cobb and Adam Hood\, and continues to be a familiar name on songwriter stages and festival lineups around the region. \nGrab your comfy stuff and join us as the season comes to an end. See you Friday\, On The Green
URL:https://explorelakemartin.com/event/friday-on-the-green-brett-mcdaniel/
LOCATION:Russell Crossroads\, 19 Russell Farms Rd\, Alexander City\, AL\, 35010\, United States
CATEGORIES:Arts and Culture
ATTACH;FMTTYPE=image/png:https://explorelakemartin.com/wp-content/uploads/2026/04/FOTGBrettMcDaniel.png
ORGANIZER;CN="Russell Lands on Lake Martin":MAILTO:info@russelllands.com
END:VEVENT
END:VCALENDAR