BEGIN:VCALENDAR
VERSION:2.0
PRODID:-//Lake Martin - ECPv6.15.20//NONSGML v1.0//EN
CALSCALE:GREGORIAN
METHOD:PUBLISH
X-WR-CALNAME:Lake Martin
X-ORIGINAL-URL:https://explorelakemartin.com
X-WR-CALDESC:Events for Lake Martin
REFRESH-INTERVAL;VALUE=DURATION:PT1H
X-Robots-Tag:noindex
X-PUBLISHED-TTL:PT1H
BEGIN:VTIMEZONE
TZID:America/Chicago
BEGIN:DAYLIGHT
TZOFFSETFROM:-0600
TZOFFSETTO:-0500
TZNAME:CDT
DTSTART:20230312T080000
END:DAYLIGHT
BEGIN:STANDARD
TZOFFSETFROM:-0500
TZOFFSETTO:-0600
TZNAME:CST
DTSTART:20231105T070000
END:STANDARD
BEGIN:DAYLIGHT
TZOFFSETFROM:-0600
TZOFFSETTO:-0500
TZNAME:CDT
DTSTART:20240310T080000
END:DAYLIGHT
BEGIN:STANDARD
TZOFFSETFROM:-0500
TZOFFSETTO:-0600
TZNAME:CST
DTSTART:20241103T070000
END:STANDARD
BEGIN:DAYLIGHT
TZOFFSETFROM:-0600
TZOFFSETTO:-0500
TZNAME:CDT
DTSTART:20250309T080000
END:DAYLIGHT
BEGIN:STANDARD
TZOFFSETFROM:-0500
TZOFFSETTO:-0600
TZNAME:CST
DTSTART:20251102T070000
END:STANDARD
END:VTIMEZONE
BEGIN:VEVENT
DTSTART;TZID=America/Chicago:20240704T100000
DTEND;TZID=America/Chicago:20240704T110000
DTSTAMP:20260421T045245
CREATED:20240625T204453Z
LAST-MODIFIED:20240625T204453Z
UID:29153-1720087200-1720090800@explorelakemartin.com
SUMMARY:Fourth of July Boat Parade
DESCRIPTION:Fourth of July Boat Parade\nPresented by Russell Marine\nThursday\, July 4 – 10am\nKowaliga Marina \nThe 4th of July Boat Parade is a long-standing Lake Martin tradition\, and it seems to grow every year. \nScores of boats slowly parade from Kowaliga Marina to Children’s Harbor in a festive and patriotic holiday display. Prizes are awarded for Tallest Flag\, Largest Flag\, Most Creative theme\, and Most Patriotic Crew. Two prizes are awarded for each category. \nFirst prize is a $150 Russell Marine gift certificate\, and second prize is a $75 gift certificate. \nBest Overall and Crew receives $500 in cash! \nCall Kowaliga Marina at 256-397-1210 for more information.
URL:https://explorelakemartin.com/event/fourth-of-july-boat-parade-4/
LOCATION:Kowaliga Marina\, 255 Kowaliga Marina Rd\, Alexander City\, AL\, 35010\, United States
ATTACH;FMTTYPE=image/png:https://explorelakemartin.com/wp-content/uploads/2024/06/Calendar-of-Events.png
ORGANIZER;CN="Russell Lands on Lake Martin":MAILTO:info@russelllands.com
END:VEVENT
END:VCALENDAR