BEGIN:VCALENDAR
VERSION:2.0
PRODID:-//Lake Martin - ECPv6.15.20//NONSGML v1.0//EN
CALSCALE:GREGORIAN
METHOD:PUBLISH
X-WR-CALNAME:Lake Martin
X-ORIGINAL-URL:https://explorelakemartin.com
X-WR-CALDESC:Events for Lake Martin
REFRESH-INTERVAL;VALUE=DURATION:PT1H
X-Robots-Tag:noindex
X-PUBLISHED-TTL:PT1H
BEGIN:VTIMEZONE
TZID:America/Chicago
BEGIN:DAYLIGHT
TZOFFSETFROM:-0600
TZOFFSETTO:-0500
TZNAME:CDT
DTSTART:20270314T080000
END:DAYLIGHT
BEGIN:STANDARD
TZOFFSETFROM:-0500
TZOFFSETTO:-0600
TZNAME:CST
DTSTART:20271107T070000
END:STANDARD
BEGIN:DAYLIGHT
TZOFFSETFROM:-0600
TZOFFSETTO:-0500
TZNAME:CDT
DTSTART:20280312T080000
END:DAYLIGHT
BEGIN:STANDARD
TZOFFSETFROM:-0500
TZOFFSETTO:-0600
TZNAME:CST
DTSTART:20281105T070000
END:STANDARD
BEGIN:DAYLIGHT
TZOFFSETFROM:-0600
TZOFFSETTO:-0500
TZNAME:CDT
DTSTART:20290311T080000
END:DAYLIGHT
BEGIN:STANDARD
TZOFFSETFROM:-0500
TZOFFSETTO:-0600
TZNAME:CST
DTSTART:20291104T070000
END:STANDARD
END:VTIMEZONE
BEGIN:VEVENT
DTSTART;TZID=America/Chicago:20280520T140000
DTEND;TZID=America/Chicago:20280520T160000
DTSTAMP:20260421T204839
CREATED:20241003T142143Z
LAST-MODIFIED:20260219T215435Z
UID:10006130-1842444000-1842451200@explorelakemartin.com
SUMMARY:Cocktail Class
DESCRIPTION:Join bartender Crayton for a fun-filled cocktail class at Vinyls Neighborhood Lounge Saturday from 2 to 4 PM! For just $35\, you’ll learn how to craft delicious cocktails while enjoying a great time with friends. Each participant receives a recipe sheet to take home\, so you can impress your guests with your newfound mixology skills. Don’t miss out on this chance to shake things up and sip in style!
URL:https://explorelakemartin.com/event/cocktail-class/2028-05-20/
LOCATION:Vinyls Neighborhood Lounge\, 41 Main Street\, Alexander City\, AL\, 35010
CATEGORIES:Arts and Culture
ATTACH;FMTTYPE=image/jpeg:https://explorelakemartin.com/wp-content/uploads/2024/10/BoatParade.jpg
END:VEVENT
END:VCALENDAR