BEGIN:VCALENDAR
VERSION:2.0
PRODID:-//Lake Martin - ECPv6.15.20//NONSGML v1.0//EN
CALSCALE:GREGORIAN
METHOD:PUBLISH
X-WR-CALNAME:Lake Martin
X-ORIGINAL-URL:https://explorelakemartin.com
X-WR-CALDESC:Events for Lake Martin
REFRESH-INTERVAL;VALUE=DURATION:PT1H
X-Robots-Tag:noindex
X-PUBLISHED-TTL:PT1H
BEGIN:VTIMEZONE
TZID:America/Chicago
BEGIN:DAYLIGHT
TZOFFSETFROM:-0600
TZOFFSETTO:-0500
TZNAME:CDT
DTSTART:20240310T080000
END:DAYLIGHT
BEGIN:STANDARD
TZOFFSETFROM:-0500
TZOFFSETTO:-0600
TZNAME:CST
DTSTART:20241103T070000
END:STANDARD
BEGIN:DAYLIGHT
TZOFFSETFROM:-0600
TZOFFSETTO:-0500
TZNAME:CDT
DTSTART:20250309T080000
END:DAYLIGHT
BEGIN:STANDARD
TZOFFSETFROM:-0500
TZOFFSETTO:-0600
TZNAME:CST
DTSTART:20251102T070000
END:STANDARD
BEGIN:DAYLIGHT
TZOFFSETFROM:-0600
TZOFFSETTO:-0500
TZNAME:CDT
DTSTART:20260308T080000
END:DAYLIGHT
BEGIN:STANDARD
TZOFFSETFROM:-0500
TZOFFSETTO:-0600
TZNAME:CST
DTSTART:20261101T070000
END:STANDARD
END:VTIMEZONE
BEGIN:VEVENT
DTSTART;TZID=America/Chicago:20251219T170000
DTEND;TZID=America/Chicago:20251219T190000
DTSTAMP:20260421T222952
CREATED:20251202T171626Z
LAST-MODIFIED:20251202T171626Z
UID:50888-1766163600-1766170800@explorelakemartin.com
SUMMARY:Christmas Wine Tasting at Lucky Flight Bottle Shoppe
DESCRIPTION:Get into the holiday spirit with a festive Christmas Wine Tasting at Lucky Flight Bottle Shoppe! Enjoy a curated selection of seasonal wines—from rich reds to crisp whites and cheerful holiday blends—perfect for pairing with all your winter celebrations. Whether you’re looking to find the ideal bottle for gifting or simply want to savor new flavors\, this cozy tasting experience offers something for every palate. Gather your friends and toast to a joyful holiday season!
URL:https://explorelakemartin.com/event/christmas-wine-tasting-at-lucky-flight-bottle-shoppe/
LOCATION:Lucky Flight Bottle Shoppe\, 5958 Hwy 49 South\, Dadeville\, AL\, 36853\, United States
CATEGORIES:Arts and Culture
ATTACH;FMTTYPE=image/png:https://explorelakemartin.com/wp-content/uploads/2025/12/LFBS3.png
ORGANIZER;CN="Lucky Flight Bottle Shoppe":MAILTO:info@luckyflightbottleshoppe.com
END:VEVENT
END:VCALENDAR