BEGIN:VCALENDAR
VERSION:2.0
PRODID:-//Lake Martin - ECPv6.15.20//NONSGML v1.0//EN
CALSCALE:GREGORIAN
METHOD:PUBLISH
X-WR-CALNAME:Lake Martin
X-ORIGINAL-URL:https://explorelakemartin.com
X-WR-CALDESC:Events for Lake Martin
REFRESH-INTERVAL;VALUE=DURATION:PT1H
X-Robots-Tag:noindex
X-PUBLISHED-TTL:PT1H
BEGIN:VTIMEZONE
TZID:America/Chicago
BEGIN:DAYLIGHT
TZOFFSETFROM:-0600
TZOFFSETTO:-0500
TZNAME:CDT
DTSTART:20240310T080000
END:DAYLIGHT
BEGIN:STANDARD
TZOFFSETFROM:-0500
TZOFFSETTO:-0600
TZNAME:CST
DTSTART:20241103T070000
END:STANDARD
BEGIN:DAYLIGHT
TZOFFSETFROM:-0600
TZOFFSETTO:-0500
TZNAME:CDT
DTSTART:20250309T080000
END:DAYLIGHT
BEGIN:STANDARD
TZOFFSETFROM:-0500
TZOFFSETTO:-0600
TZNAME:CST
DTSTART:20251102T070000
END:STANDARD
BEGIN:DAYLIGHT
TZOFFSETFROM:-0600
TZOFFSETTO:-0500
TZNAME:CDT
DTSTART:20260308T080000
END:DAYLIGHT
BEGIN:STANDARD
TZOFFSETFROM:-0500
TZOFFSETTO:-0600
TZNAME:CST
DTSTART:20261101T070000
END:STANDARD
END:VTIMEZONE
BEGIN:VEVENT
DTSTART;TZID=America/Chicago:20250317T183000
DTEND;TZID=America/Chicago:20250317T203000
DTSTAMP:20260421T122604
CREATED:20250117T171231Z
LAST-MODIFIED:20250117T171231Z
UID:35462-1742236200-1742243400@explorelakemartin.com
SUMMARY:Celtic Concert by Lake Martin Dulcimer Club
DESCRIPTION:Join the Lake Martin Dulcimer Club and friends for an evening of mellow Celtic music. One of the favorite concerts at DPAC each year! \nAdvance tickets online for $10 at Dadeville Performing Arts Center or $15 at the door. 
URL:https://explorelakemartin.com/event/celtic-concert-by-lake-martin-dulcimer-club/
LOCATION:Dadeville Performing Arts Center\, 128 N. Broadnax Street\, Dadeville\, AL\, 36853
ATTACH;FMTTYPE=image/jpeg:https://explorelakemartin.com/wp-content/uploads/2025/01/Dul.jpg
END:VEVENT
END:VCALENDAR