BEGIN:VCALENDAR
VERSION:2.0
PRODID:-//Lake Martin - ECPv6.15.20//NONSGML v1.0//EN
CALSCALE:GREGORIAN
METHOD:PUBLISH
X-WR-CALNAME:Lake Martin
X-ORIGINAL-URL:https://explorelakemartin.com
X-WR-CALDESC:Events for Lake Martin
REFRESH-INTERVAL;VALUE=DURATION:PT1H
X-Robots-Tag:noindex
X-PUBLISHED-TTL:PT1H
BEGIN:VTIMEZONE
TZID:America/Chicago
BEGIN:DAYLIGHT
TZOFFSETFROM:-0600
TZOFFSETTO:-0500
TZNAME:CDT
DTSTART:20240310T080000
END:DAYLIGHT
BEGIN:STANDARD
TZOFFSETFROM:-0500
TZOFFSETTO:-0600
TZNAME:CST
DTSTART:20241103T070000
END:STANDARD
BEGIN:DAYLIGHT
TZOFFSETFROM:-0600
TZOFFSETTO:-0500
TZNAME:CDT
DTSTART:20250309T080000
END:DAYLIGHT
BEGIN:STANDARD
TZOFFSETFROM:-0500
TZOFFSETTO:-0600
TZNAME:CST
DTSTART:20251102T070000
END:STANDARD
BEGIN:DAYLIGHT
TZOFFSETFROM:-0600
TZOFFSETTO:-0500
TZNAME:CDT
DTSTART:20260308T080000
END:DAYLIGHT
BEGIN:STANDARD
TZOFFSETFROM:-0500
TZOFFSETTO:-0600
TZNAME:CST
DTSTART:20261101T070000
END:STANDARD
END:VTIMEZONE
BEGIN:VEVENT
DTSTART;VALUE=DATE:20250913
DTEND;VALUE=DATE:20250914
DTSTAMP:20260421T072954
CREATED:20250805T185444Z
LAST-MODIFIED:20250805T185444Z
UID:46072-1757721600-1757807999@explorelakemartin.com
SUMMARY:Campfire Talk: Tending the Land\, Restoring the Wild
DESCRIPTION:Join Chief of Natural Resources Tasha Simon and guest experts for a Campfire Talk series exploring how Alabama State Parks use science-based management to care for our wild landscapes. From prescribed fire to pollinator protection\, these evening programs will spark curiosity while shedding light on the natural systems that sustain our parks. \nFor this Sparks and Science talk\, we will be meeting at the fire ring by the Clubhouse at 7:30 PM. \n\n\nProgram Host:  Dylan Ogle \nContact Email:  dylan.ogle@dcnr.alabama.gov \nContact Phone:  2568279540 \nMeeting Place:  Clubhouse
URL:https://explorelakemartin.com/event/campfire-talk-tending-the-land-restoring-the-wild/
LOCATION:Wind Creek State Park
CATEGORIES:Sporting Events
ATTACH;FMTTYPE=image/jpeg:https://explorelakemartin.com/wp-content/uploads/2025/08/WC.jpg
END:VEVENT
END:VCALENDAR