BEGIN:VCALENDAR
VERSION:2.0
PRODID:-//Lake Martin - ECPv6.15.20//NONSGML v1.0//EN
CALSCALE:GREGORIAN
METHOD:PUBLISH
X-WR-CALNAME:Lake Martin
X-ORIGINAL-URL:https://explorelakemartin.com
X-WR-CALDESC:Events for Lake Martin
REFRESH-INTERVAL;VALUE=DURATION:PT1H
X-Robots-Tag:noindex
X-PUBLISHED-TTL:PT1H
BEGIN:VTIMEZONE
TZID:America/Chicago
BEGIN:DAYLIGHT
TZOFFSETFROM:-0600
TZOFFSETTO:-0500
TZNAME:CDT
DTSTART:20230312T080000
END:DAYLIGHT
BEGIN:STANDARD
TZOFFSETFROM:-0500
TZOFFSETTO:-0600
TZNAME:CST
DTSTART:20231105T070000
END:STANDARD
BEGIN:DAYLIGHT
TZOFFSETFROM:-0600
TZOFFSETTO:-0500
TZNAME:CDT
DTSTART:20240310T080000
END:DAYLIGHT
BEGIN:STANDARD
TZOFFSETFROM:-0500
TZOFFSETTO:-0600
TZNAME:CST
DTSTART:20241103T070000
END:STANDARD
BEGIN:DAYLIGHT
TZOFFSETFROM:-0600
TZOFFSETTO:-0500
TZNAME:CDT
DTSTART:20250309T080000
END:DAYLIGHT
BEGIN:STANDARD
TZOFFSETFROM:-0500
TZOFFSETTO:-0600
TZNAME:CST
DTSTART:20251102T070000
END:STANDARD
END:VTIMEZONE
BEGIN:VEVENT
DTSTART;TZID=America/Chicago:20240705T090000
DTEND;TZID=America/Chicago:20240705T160000
DTSTAMP:20260421T075042
CREATED:20240130T154634Z
LAST-MODIFIED:20240130T154634Z
UID:10005060-1720170000-1720195200@explorelakemartin.com
SUMMARY:Arti Gras
DESCRIPTION:Mark your calendars for Friday\, July 5th and Saturday\, July 6th\, at Russell Crossroads for the 13th annual Arti Gras art show! Make your 4th of July celebration special with a unique piece of art\, ranging from jewelry to pottery and more. Bring your friends and family to discover the diverse offerings at this maker’s market! \nFor additional information\, don’t hesitate to contact Sydnee Riley at 256.212.1431 or at sriley@russelllands.com.
URL:https://explorelakemartin.com/event/arti-gras-5/2024-07-05/
LOCATION:Russell Crossroads\, 19 Russell Farms Rd\, Alexander City\, AL\, 35010\, United States
ATTACH;FMTTYPE=image/jpeg:https://explorelakemartin.com/wp-content/uploads/2024/01/artigras.jpg
ORGANIZER;CN="Russell Lands on Lake Martin":MAILTO:info@russelllands.com
END:VEVENT
END:VCALENDAR