BEGIN:VCALENDAR
VERSION:2.0
PRODID:-//Lake Martin - ECPv6.15.20//NONSGML v1.0//EN
CALSCALE:GREGORIAN
METHOD:PUBLISH
X-WR-CALNAME:Lake Martin
X-ORIGINAL-URL:https://explorelakemartin.com
X-WR-CALDESC:Events for Lake Martin
REFRESH-INTERVAL;VALUE=DURATION:PT1H
X-Robots-Tag:noindex
X-PUBLISHED-TTL:PT1H
BEGIN:VTIMEZONE
TZID:America/Chicago
BEGIN:DAYLIGHT
TZOFFSETFROM:-0600
TZOFFSETTO:-0500
TZNAME:CDT
DTSTART:20250309T080000
END:DAYLIGHT
BEGIN:STANDARD
TZOFFSETFROM:-0500
TZOFFSETTO:-0600
TZNAME:CST
DTSTART:20251102T070000
END:STANDARD
BEGIN:DAYLIGHT
TZOFFSETFROM:-0600
TZOFFSETTO:-0500
TZNAME:CDT
DTSTART:20260308T080000
END:DAYLIGHT
BEGIN:STANDARD
TZOFFSETFROM:-0500
TZOFFSETTO:-0600
TZNAME:CST
DTSTART:20261101T070000
END:STANDARD
BEGIN:DAYLIGHT
TZOFFSETFROM:-0600
TZOFFSETTO:-0500
TZNAME:CDT
DTSTART:20270314T080000
END:DAYLIGHT
BEGIN:STANDARD
TZOFFSETFROM:-0500
TZOFFSETTO:-0600
TZNAME:CST
DTSTART:20271107T070000
END:STANDARD
END:VTIMEZONE
BEGIN:VEVENT
DTSTART;VALUE=DATE:20260411
DTEND;VALUE=DATE:20260412
DTSTAMP:20260421T042550
CREATED:20250212T220356Z
LAST-MODIFIED:20250806T212802Z
UID:36109-1775865600-1775951999@explorelakemartin.com
SUMMARY:Alabama Bass Trail
DESCRIPTION:The Alabama Bass Trail Tournament Series returns for its 13th season in 2026\, featuring 11 events and over $750\,000 in prizes. Sanctioned by B.A.S.S.\, the series is split into North and South divisions\, each with five tournaments. Teams must compete in all events within their division for a shot at the Championship. \nLake Martin will host one of the South Division qualifiers\, bringing 225 boats full of top amateur anglers to the water. Head to Wind Creek State Park to cheer them on and experience the excitement of the live weigh-in! \nFor more information please visit Alabama Bass Trail.
URL:https://explorelakemartin.com/event/alabama-bass-trail-closed/
LOCATION:Wind Creek State Park
CATEGORIES:Sporting Events
ATTACH;FMTTYPE=image/jpeg:https://explorelakemartin.com/wp-content/uploads/2025/02/Alabama-Bass-Trail.jpg
END:VEVENT
END:VCALENDAR