BEGIN:VCALENDAR
VERSION:2.0
PRODID:-//Lake Martin - ECPv6.15.20//NONSGML v1.0//EN
CALSCALE:GREGORIAN
METHOD:PUBLISH
X-WR-CALNAME:Lake Martin
X-ORIGINAL-URL:https://explorelakemartin.com
X-WR-CALDESC:Events for Lake Martin
REFRESH-INTERVAL;VALUE=DURATION:PT1H
X-Robots-Tag:noindex
X-PUBLISHED-TTL:PT1H
BEGIN:VTIMEZONE
TZID:America/Chicago
BEGIN:DAYLIGHT
TZOFFSETFROM:-0600
TZOFFSETTO:-0500
TZNAME:CDT
DTSTART:20240310T080000
END:DAYLIGHT
BEGIN:STANDARD
TZOFFSETFROM:-0500
TZOFFSETTO:-0600
TZNAME:CST
DTSTART:20241103T070000
END:STANDARD
BEGIN:DAYLIGHT
TZOFFSETFROM:-0600
TZOFFSETTO:-0500
TZNAME:CDT
DTSTART:20250309T080000
END:DAYLIGHT
BEGIN:STANDARD
TZOFFSETFROM:-0500
TZOFFSETTO:-0600
TZNAME:CST
DTSTART:20251102T070000
END:STANDARD
BEGIN:DAYLIGHT
TZOFFSETFROM:-0600
TZOFFSETTO:-0500
TZNAME:CDT
DTSTART:20260308T080000
END:DAYLIGHT
BEGIN:STANDARD
TZOFFSETFROM:-0500
TZOFFSETTO:-0600
TZNAME:CST
DTSTART:20261101T070000
END:STANDARD
END:VTIMEZONE
BEGIN:VEVENT
DTSTART;TZID=America/Chicago:20251116T133000
DTEND;TZID=America/Chicago:20251116T170000
DTSTAMP:20260421T060752
CREATED:20251106T165749Z
LAST-MODIFIED:20251106T165749Z
UID:50347-1763299800-1763312400@explorelakemartin.com
SUMMARY:ACSEF Pickleball Social
DESCRIPTION:The Alexander City Schools Education Foundation invites the community to a Pickleball Social on November 16\, 2025\, at the Willow Point Racquet Complex. Check-in and warm-ups begin at 1:30 PM\, followed by pickleball play from 2:00–4:00 PM. A social hour for both players and spectators will take place from 4:00–5:00 PM. Player entry (ages 18+) is $100\, and spectator/social admission is $50. Proceeds support enhanced technology\, teacher grants\, cultural learning opportunities\, and school safety initiatives throughout Alexander City Schools. To learn more or to register\, please visit https://www.alexcityschoolsfoundation.com/pickleball-social.
URL:https://explorelakemartin.com/event/acsef-pickleball-social/
LOCATION:Willow Point Racquet Complex\, 3050 Willow Point Road\, Alexander City\, AL\, 35010\, United States
CATEGORIES:Arts and Culture
ATTACH;FMTTYPE=image/png:https://explorelakemartin.com/wp-content/uploads/2025/11/PickleballSocial.png
ORGANIZER;CN="Alex City Schools Education Foundation":MAILTO:lharris7925@gmail.com
END:VEVENT
END:VCALENDAR