BEGIN:VCALENDAR
VERSION:2.0
PRODID:-//Lake Martin - ECPv6.15.20//NONSGML v1.0//EN
CALSCALE:GREGORIAN
METHOD:PUBLISH
X-WR-CALNAME:Lake Martin
X-ORIGINAL-URL:https://explorelakemartin.com
X-WR-CALDESC:Events for Lake Martin
REFRESH-INTERVAL;VALUE=DURATION:PT1H
X-Robots-Tag:noindex
X-PUBLISHED-TTL:PT1H
BEGIN:VTIMEZONE
TZID:America/Chicago
BEGIN:DAYLIGHT
TZOFFSETFROM:-0600
TZOFFSETTO:-0500
TZNAME:CDT
DTSTART:20240310T080000
END:DAYLIGHT
BEGIN:STANDARD
TZOFFSETFROM:-0500
TZOFFSETTO:-0600
TZNAME:CST
DTSTART:20241103T070000
END:STANDARD
BEGIN:DAYLIGHT
TZOFFSETFROM:-0600
TZOFFSETTO:-0500
TZNAME:CDT
DTSTART:20250309T080000
END:DAYLIGHT
BEGIN:STANDARD
TZOFFSETFROM:-0500
TZOFFSETTO:-0600
TZNAME:CST
DTSTART:20251102T070000
END:STANDARD
BEGIN:DAYLIGHT
TZOFFSETFROM:-0600
TZOFFSETTO:-0500
TZNAME:CDT
DTSTART:20260308T080000
END:DAYLIGHT
BEGIN:STANDARD
TZOFFSETFROM:-0500
TZOFFSETTO:-0600
TZNAME:CST
DTSTART:20261101T070000
END:STANDARD
END:VTIMEZONE
BEGIN:VEVENT
DTSTART;VALUE=DATE:20250712
DTEND;VALUE=DATE:20250713
DTSTAMP:20260424T133410
CREATED:20250417T175627Z
LAST-MODIFIED:20250417T175627Z
UID:39020-1752278400-1752364799@explorelakemartin.com
SUMMARY:ACHRC Horse Show
DESCRIPTION:The Alexander City Horse Riding Club is hosting a double-judged horse show at Walkabout Ranch in New Site\, Alabama! Don’t miss a day of exciting competition\, horsemanship\, and family fun. \nFor more information please visit Alexander City Horse Riding Club! \nOr contact\, \nJimmy Avery – 256-794-6566
URL:https://explorelakemartin.com/event/achrc-horse-show/
LOCATION:Walkabout Ranch\, 469 Walkabout Ranch Rd\, Daviston\, AL\, 36256\, United States
CATEGORIES:Sporting Events
ATTACH;FMTTYPE=image/jpeg:https://explorelakemartin.com/wp-content/uploads/2025/04/ACHRC.jpg
ORGANIZER;CN="Alexander City Horse Riding CLub":MAILTO:achrcmail@yahoo.com
END:VEVENT
END:VCALENDAR