BEGIN:VCALENDAR
VERSION:2.0
PRODID:-//Lake Martin - ECPv6.15.20//NONSGML v1.0//EN
CALSCALE:GREGORIAN
METHOD:PUBLISH
X-WR-CALNAME:Lake Martin
X-ORIGINAL-URL:https://explorelakemartin.com
X-WR-CALDESC:Events for Lake Martin
REFRESH-INTERVAL;VALUE=DURATION:PT1H
X-Robots-Tag:noindex
X-PUBLISHED-TTL:PT1H
BEGIN:VTIMEZONE
TZID:America/Chicago
BEGIN:DAYLIGHT
TZOFFSETFROM:-0600
TZOFFSETTO:-0500
TZNAME:CDT
DTSTART:20240310T080000
END:DAYLIGHT
BEGIN:STANDARD
TZOFFSETFROM:-0500
TZOFFSETTO:-0600
TZNAME:CST
DTSTART:20241103T070000
END:STANDARD
BEGIN:DAYLIGHT
TZOFFSETFROM:-0600
TZOFFSETTO:-0500
TZNAME:CDT
DTSTART:20250309T080000
END:DAYLIGHT
BEGIN:STANDARD
TZOFFSETFROM:-0500
TZOFFSETTO:-0600
TZNAME:CST
DTSTART:20251102T070000
END:STANDARD
BEGIN:DAYLIGHT
TZOFFSETFROM:-0600
TZOFFSETTO:-0500
TZNAME:CDT
DTSTART:20260308T080000
END:DAYLIGHT
BEGIN:STANDARD
TZOFFSETFROM:-0500
TZOFFSETTO:-0600
TZNAME:CST
DTSTART:20261101T070000
END:STANDARD
END:VTIMEZONE
BEGIN:VEVENT
DTSTART;TZID=America/Chicago:20250530T170000
DTEND;TZID=America/Chicago:20250530T200000
DTSTAMP:20260424T115146
CREATED:20250509T181958Z
LAST-MODIFIED:20250509T192154Z
UID:40183-1748624400-1748635200@explorelakemartin.com
SUMMARY:5th Annual Lake Martin Rodeo
DESCRIPTION:The 5th Annual Lake Martin Rodeo will be held May 30–31 at Central Alabama Community College in Alexander City. Bring the whole family out to enjoy a great rodeo\, live music\, vendors\, and more! Gates open at 5 PM each night\, with live music from 5:00–6:30 PM and the rodeo kicking off at 7:00 PM. \nPresale tickets are available at Tractor Supply in Alexander City for $10 until sold out. Tickets at the gate will be $15. Kids 5 and under get in FREE!
URL:https://explorelakemartin.com/event/5th-annual-lake-martin-rodeo/
LOCATION:Central Alabama Community College\, 1675 Cherokee Road\, Alexander City\, AL
CATEGORIES:Sporting Events
ATTACH;FMTTYPE=image/jpeg:https://explorelakemartin.com/wp-content/uploads/2025/05/Rodeo.jpg
END:VEVENT
END:VCALENDAR