BEGIN:VCALENDAR
VERSION:2.0
PRODID:-//Lake Martin - ECPv6.15.20//NONSGML v1.0//EN
CALSCALE:GREGORIAN
METHOD:PUBLISH
X-WR-CALNAME:Lake Martin
X-ORIGINAL-URL:https://explorelakemartin.com
X-WR-CALDESC:Events for Lake Martin
REFRESH-INTERVAL;VALUE=DURATION:PT1H
X-Robots-Tag:noindex
X-PUBLISHED-TTL:PT1H
BEGIN:VTIMEZONE
TZID:America/Chicago
BEGIN:DAYLIGHT
TZOFFSETFROM:-0600
TZOFFSETTO:-0500
TZNAME:CDT
DTSTART:20240310T080000
END:DAYLIGHT
BEGIN:STANDARD
TZOFFSETFROM:-0500
TZOFFSETTO:-0600
TZNAME:CST
DTSTART:20241103T070000
END:STANDARD
BEGIN:DAYLIGHT
TZOFFSETFROM:-0600
TZOFFSETTO:-0500
TZNAME:CDT
DTSTART:20250309T080000
END:DAYLIGHT
BEGIN:STANDARD
TZOFFSETFROM:-0500
TZOFFSETTO:-0600
TZNAME:CST
DTSTART:20251102T070000
END:STANDARD
BEGIN:DAYLIGHT
TZOFFSETFROM:-0600
TZOFFSETTO:-0500
TZNAME:CDT
DTSTART:20260308T080000
END:DAYLIGHT
BEGIN:STANDARD
TZOFFSETFROM:-0500
TZOFFSETTO:-0600
TZNAME:CST
DTSTART:20261101T070000
END:STANDARD
END:VTIMEZONE
BEGIN:VEVENT
DTSTART;TZID=America/Chicago:20250719T180000
DTEND;TZID=America/Chicago:20250719T200000
DTSTAMP:20260421T030648
CREATED:20250716T173833Z
LAST-MODIFIED:20250716T173833Z
UID:10007984-1752948000-1752955200@explorelakemartin.com
SUMMARY:101 Dalmations Kids
DESCRIPTION:Enjoy a delightful performance of 101 Dalmatians Kids\, presented by ACT II\, featuring a talented cast of young performers. This charming\, family-friendly production brings the classic Disney tale to life with music\, laughter\, and plenty of puppy fun—perfect for audiences of all ages! Performances take place July 18-19 at 6:00 PM\, and July 20 at 2:00 PM at Benjamin Russell High School in the auditorium. 
URL:https://explorelakemartin.com/event/101-dalmations-kids/2025-07-19/
LOCATION:Benjamin Russell High School Auditorium\, 225 Heard Blvd\, Alexander City\, AL\, 35010
CATEGORIES:Arts and Culture
ATTACH;FMTTYPE=image/png:https://explorelakemartin.com/wp-content/uploads/2025/07/101Dalmations.png
ORGANIZER;CN="Act II":MAILTO:karenjennings124@gmail.com
END:VEVENT
END:VCALENDAR